BEGIN:VCALENDAR
VERSION:2.0
PRODID:-//Dharan Run - ECPv6.15.20//NONSGML v1.0//EN
CALSCALE:GREGORIAN
METHOD:PUBLISH
X-ORIGINAL-URL:https://dharanrun.org.np
X-WR-CALDESC:Events for Dharan Run
REFRESH-INTERVAL;VALUE=DURATION:PT1H
X-Robots-Tag:noindex
X-PUBLISHED-TTL:PT1H
BEGIN:VTIMEZONE
TZID:Asia/Katmandu
BEGIN:STANDARD
TZOFFSETFROM:+0545
TZOFFSETTO:+0545
TZNAME:+0545
DTSTART:20240101T000000
END:STANDARD
END:VTIMEZONE
BEGIN:VEVENT
DTSTART;TZID=Asia/Katmandu:20251122T050000
DTEND;TZID=Asia/Katmandu:20251122T080000
DTSTAMP:20260425T063741
CREATED:20251105T031722Z
LAST-MODIFIED:20251129T085650Z
UID:1555-1763787600-1763798400@dharanrun.org.np
SUMMARY:दोस्रो सुनुवार विद्यार्थी ५ कि.मी. दौड प्रतियोगिता – २०८२
DESCRIPTION:Online Form\n \nView Position Results
URL:https://dharanrun.org.np/event/%e0%a4%a6%e0%a5%8b%e0%a4%b8%e0%a5%8d%e0%a4%b0%e0%a5%8b-%e0%a4%b8%e0%a5%81%e0%a4%a8%e0%a5%81%e0%a4%b5%e0%a4%be%e0%a4%b0-%e0%a4%b5%e0%a4%bf%e0%a4%a6%e0%a5%8d%e0%a4%af%e0%a4%be%e0%a4%b0%e0%a5%8d%e0%a4%a5/
CATEGORIES:Others
ATTACH;FMTTYPE=image/jpeg:https://dharanrun.org.np/wp-content/uploads/2025/11/Sunuwar.jpg
END:VEVENT
BEGIN:VEVENT
DTSTART;TZID=Asia/Katmandu:20251117T080000
DTEND;TZID=Asia/Katmandu:20251117T210000
DTSTAMP:20260425T063741
CREATED:20251112T023201Z
LAST-MODIFIED:20251121T023955Z
UID:1610-1763366400-1763413200@dharanrun.org.np
SUMMARY:4th Birtamode Marathon
DESCRIPTION:4th Birtamode Marathon \nDate: 1 Kartik 2082\nVenue: Birtamode\nContact No.: 9805112259\, 9818172672
URL:https://dharanrun.org.np/event/4th-birtamode-marathon/
CATEGORIES:Others
ATTACH;FMTTYPE=image/jpeg:https://dharanrun.org.np/wp-content/uploads/2025/11/Birtamode-marathon.jpg
END:VEVENT
BEGIN:VEVENT
DTSTART;TZID=Asia/Katmandu:20251115T073000
DTEND;TZID=Asia/Katmandu:20251115T210000
DTSTAMP:20260425T063741
CREATED:20251109T044828Z
LAST-MODIFIED:20251114T050506Z
UID:1580-1763191800-1763240400@dharanrun.org.np
SUMMARY:Mangalbare Cross Country Run
DESCRIPTION:Mangalbare Cross Country Run\nUrlabari 3\, Mangalbare\, Morang\nDate: 29 Kartik 2082\, Saturday\nVenue: Urlabari 3\, Mangalbare\, Morang\nTime: 8:30 am\nContact No.: 980148899\, 9808963542
URL:https://dharanrun.org.np/event/mangalbare-cross-country-run/
CATEGORIES:Others
ATTACH;FMTTYPE=image/jpeg:https://dharanrun.org.np/wp-content/uploads/2025/11/CrossCountryRunLogo.jpg
END:VEVENT
BEGIN:VEVENT
DTSTART;TZID=Asia/Katmandu:20251111T080000
DTEND;TZID=Asia/Katmandu:20251111T220000
DTSTAMP:20260425T063741
CREATED:20251106T043637Z
LAST-MODIFIED:20251114T044419Z
UID:1577-1762848000-1762898400@dharanrun.org.np
SUMMARY:खुल्ला पुरुष तथा महिला (वालवालिका/भेट्रनन्स) हाफ म्यारथन २०८२)
DESCRIPTION:खुल्ला पुरुष तथा महिला (वालवालिका÷भेट्रनन्स) हाफ म्यारथन २०८२)\nमितिः २०८२ कात्तिक २५ गते\nसमयः विहान ८ः०० बजे\nस्थानः फेदेन ५\, महागुरु फल्गुनन्द पावन कर्मभुमी लब्रेकुटि पाचथर\nसम्पर्कः ९८२६९०७४०५
URL:https://dharanrun.org.np/event/%e0%a4%96%e0%a5%81%e0%a4%b2%e0%a5%8d%e0%a4%b2%e0%a4%be-%e0%a4%aa%e0%a5%81%e0%a4%b0%e0%a5%81%e0%a4%b7-%e0%a4%a4%e0%a4%a5%e0%a4%be-%e0%a4%ae%e0%a4%b9%e0%a4%bf%e0%a4%b2%e0%a4%be-%e0%a4%b5%e0%a4%be/
CATEGORIES:Others
ATTACH;FMTTYPE=image/jpeg:https://dharanrun.org.np/wp-content/uploads/2025/11/Falgunanda_Panchthar.jpg
END:VEVENT
END:VCALENDAR