BEGIN:VCALENDAR
VERSION:2.0
PRODID:-//Dharan Run - ECPv6.15.20//NONSGML v1.0//EN
CALSCALE:GREGORIAN
METHOD:PUBLISH
X-WR-CALNAME:Dharan Run
X-ORIGINAL-URL:https://dharanrun.org.np
X-WR-CALDESC:Events for Dharan Run
REFRESH-INTERVAL;VALUE=DURATION:PT1H
X-Robots-Tag:noindex
X-PUBLISHED-TTL:PT1H
BEGIN:VTIMEZONE
TZID:Asia/Katmandu
BEGIN:STANDARD
TZOFFSETFROM:+0545
TZOFFSETTO:+0545
TZNAME:+0545
DTSTART:20250101T000000
END:STANDARD
END:VTIMEZONE
BEGIN:VEVENT
DTSTART;TZID=Asia/Katmandu:20260328T063000
DTEND;TZID=Asia/Katmandu:20260328T220000
DTSTAMP:20260425T095121
CREATED:20260315T011931Z
LAST-MODIFIED:20260422T041343Z
UID:1782-1774679400-1774735200@dharanrun.org.np
SUMMARY:4th Gurkha Trailblazer 2082
DESCRIPTION:
URL:https://dharanrun.org.np/event/4th-gurkha-trailblazer-2082/
CATEGORIES:Others
ATTACH;FMTTYPE=image/jpeg:https://dharanrun.org.np/wp-content/uploads/2026/03/FB_IMG_1773447650095.jpg
END:VEVENT
END:VCALENDAR